BEGIN:VCALENDAR
VERSION:2.0
PRODID:-//Sabre//Sabre VObject 4.5.8//EN
CALSCALE:GREGORIAN
BEGIN:VTIMEZONE
TZID:Europe/Zurich
X-LIC-LOCATION:Europe/Zurich
TZURL:http://tzurl.org/zoneinfo/Europe/Zurich
BEGIN:DAYLIGHT
TZOFFSETFROM:+0100
TZOFFSETTO:+0200
TZNAME:CEST
DTSTART:19810329T020000
RRULE:FREQ=YEARLY;BYMONTH=3;BYDAY=-1SU
END:DAYLIGHT
BEGIN:STANDARD
TZOFFSETFROM:+0200
TZOFFSETTO:+0100
TZNAME:CET
DTSTART:19961027T030000
RRULE:FREQ=YEARLY;BYMONTH=10;BYDAY=-1SU
END:STANDARD
END:VTIMEZONE
BEGIN:VEVENT
UID:news731@psychologie.unibas.ch
DTSTAMP;TZID=Europe/Zurich:20260211T114910
DTSTART;TZID=Europe/Zurich:20260218T080000
SUMMARY:Berufungsvorträge Health & Rehabilitation Psychology
DESCRIPTION:Liebe Mitglieder der Fakultät\\r\\nSie sind herzlich zu den ho
 chschulöffentlichen Berufungsvorträgen eingeladen.\\r\\n08:00Prof. Dr. T
 abea Hässler: «Unmasking Social Inequalities: Exploring their Impact on 
 Health and Strategies for Health Promotion»  08:45Assoc. Prof. Dr. Chia
 ra Baglioni: «The role of sleep for mental health»   09:30PD Dr. Vale
 ntin Benzing: «Gesundheit\, Diversität und Digitalisierung – in Schule
 \, Alltag und klinischer Versorgung»   10:25Dr. Janina Lüscher: «Pre
 venting and Managing Chronic Health Conditions in Everyday Life: A Social 
 Relationships Perspective» 11:10Dr. Timon Elmer: «Promoting Health Thro
 ugh Digital Interventions Targeting Social and Digital Behavior Change»11
 :55N.N.: «Internalized Health-Related Stigma: Impacts and Interventions»
    
X-ALT-DESC:<p>Liebe Mitglieder der Fakultät</p>\n<p>Sie sind herzlich zu d
 en hochschulöffentlichen Berufungsvorträgen eingeladen.</p>\n<table><tbo
 dy><tr><td>08:00</td><td>Prof. Dr. Tabea Hässler: <i><span>«Unmasking So
 cial Inequalities: Exploring their Impact on Health and Strategies for Hea
 lth Promotion»&nbsp\;</span></i><span>&nbsp\;</span></td></tr><tr><td>08:
 45</td><td>Assoc. Prof. Dr. Chiara Baglioni: <i><span>«The role of sleep 
 for mental health»&nbsp\;&nbsp\;</span></i><span>&nbsp\;</span></td></tr>
 <tr><td>09:30</td><td>PD Dr. Valentin Benzing: <i><span>«Gesundheit\, Div
 ersität und Digitalisierung – in Schule\, Alltag und klinischer Versorg
 ung»&nbsp\;&nbsp\;</span></i><span>&nbsp\;</span></td></tr><tr><td>10:25<
 /td><td>Dr. Janina Lüscher<span>:</span> <i><span>«Preventing and Managi
 ng Chronic Health Conditions in Everyday Life: A Social Relationships Pers
 pective»&nbsp\;</span></i></td></tr><tr><td>11:10</td><td>Dr. Timon Elmer
 : <i><span>«Promoting Health Through Digital Interventions Targeting Soci
 al and Digital Behavior Change»</span></i></td></tr><tr><td>11:55</td><td
 >N.N.: <i><span>«Internalized Health-Related Stigma: Impacts and Interven
 tions»&nbsp\;&nbsp\;</span></i><span>&nbsp\;</span></td></tr></tbody></ta
 ble>
DTEND;TZID=Europe/Zurich:20260218T130000
END:VEVENT
END:VCALENDAR
