BEGIN:VCALENDAR
VERSION:2.0
PRODID:-//Sabre//Sabre VObject 4.5.8//EN
CALSCALE:GREGORIAN
BEGIN:VTIMEZONE
TZID:Europe/Zurich
X-LIC-LOCATION:Europe/Zurich
TZURL:http://tzurl.org/zoneinfo/Europe/Zurich
BEGIN:DAYLIGHT
TZOFFSETFROM:+0100
TZOFFSETTO:+0200
TZNAME:CEST
DTSTART:19810329T020000
RRULE:FREQ=YEARLY;BYMONTH=3;BYDAY=-1SU
END:DAYLIGHT
BEGIN:STANDARD
TZOFFSETFROM:+0200
TZOFFSETTO:+0100
TZNAME:CET
DTSTART:19961027T030000
RRULE:FREQ=YEARLY;BYMONTH=10;BYDAY=-1SU
END:STANDARD
END:VTIMEZONE
BEGIN:VEVENT
UID:news731@psychologie.unibas.ch
DTSTAMP;TZID=Europe/Zurich:20260211T114938
DTSTART;TZID=Europe/Zurich:20260218T080000
SUMMARY:Appointment presentations Health and Rehabilitation Psychology
DESCRIPTION:Dear members of the faculty\\r\\nYou are cordially invited to t
 he public appointment lectures.\\r\\n08:00Prof. Dr. Tabea Hässler: "Unmas
 king Social Inequalities: Exploring their Impact on Health and Strategies 
 for Health Promotion" 08:45Assoc. Prof. Dr. Chiara Baglioni: "The role of
  sleep for mental health" 09:30PD Dr. Valentin Benzing: "Health\, diversi
 ty and digitalization - in school\, everyday life and clinical care" 10:2
 5Dr. Janina Lüscher: "Preventing and Managing Chronic Health Conditions i
 n Everyday Life: A Social Relationships Perspective"11:10Dr. Timon Elmer: 
 "Promoting Health Through Digital Interventions Targeting Social and Digit
 al Behavior Change"11:55N.N.: "Internalized Health-Related Stigma: Impacts
  and Interventions" 
X-ALT-DESC:<p>Dear members of the faculty</p>\n<p>You are cordially invited
  to the public appointment lectures.</p>\n<table><tbody><tr><td>08:00</td>
 <td>Prof. Dr. Tabea Hässler: <i><span>"Unmasking Social Inequalities: Exp
 loring their Impact on Health and Strategies for Health Promotion"&nbsp\;<
 /span></i></td></tr><tr><td>08:45</td><td>Assoc. Prof. Dr. Chiara Baglioni
 : <i><span>"The role of sleep for mental health"&nbsp\;</span></i></td></t
 r><tr><td>09:30</td><td>PD Dr. Valentin Benzing: <i><span>"Health\, divers
 ity and digitalization - in school\, everyday life and clinical care"&nbsp
 \;</span></i></td></tr><tr><td>10:25</td><td>Dr. Janina Lüscher<span>:</s
 pan> <i><span>"Preventing and Managing Chronic Health Conditions in Everyd
 ay Life: A Social Relationships Perspective"</span></i></td></tr><tr><td>1
 1:10</td><td>Dr. Timon Elmer: <i><span>"Promoting Health Through Digital I
 nterventions Targeting Social and Digital Behavior Change"</span></i></td>
 </tr><tr><td>11:55</td><td>N.N.: <i><span>"Internalized Health-Related Sti
 gma: Impacts and Interventions"&nbsp\;</span></i></td></tr></tbody></table
 >
DTEND;TZID=Europe/Zurich:20260218T130000
END:VEVENT
END:VCALENDAR
