BEGIN:VCALENDAR
VERSION:2.0
PRODID:-//Sabre//Sabre VObject 4.5.8//EN
CALSCALE:GREGORIAN
BEGIN:VTIMEZONE
TZID:Europe/Zurich
X-LIC-LOCATION:Europe/Zurich
TZURL:http://tzurl.org/zoneinfo/Europe/Zurich
BEGIN:DAYLIGHT
TZOFFSETFROM:+0100
TZOFFSETTO:+0200
TZNAME:CEST
DTSTART:19810329T020000
RRULE:FREQ=YEARLY;BYMONTH=3;BYDAY=-1SU
END:DAYLIGHT
BEGIN:STANDARD
TZOFFSETFROM:+0200
TZOFFSETTO:+0100
TZNAME:CET
DTSTART:19961027T030000
RRULE:FREQ=YEARLY;BYMONTH=10;BYDAY=-1SU
END:STANDARD
END:VTIMEZONE
BEGIN:VEVENT
UID:news646@psychologie.unibas.ch
DTSTAMP;TZID=Europe/Zurich:20240919T151555
DTSTART;TZID=Europe/Zurich:20241016T140000
SUMMARY:Invitation to the Central Labs Opening Event
DESCRIPTION:We woul like to invite you to the 1. Research Day: “Central L
 abs Opening Event”.\\r\\nWhen: Wednesday\, October 16\, 2024 at 14:00\\
 r\\nWhere: Seminar Room 00.006\, Missionsstrasse 62a\\r\\nProgram\\r\\n 	
  		 			 			14:00 			 			 			Everything you ever wanted to know about Resea
 rch IT but were afraid to ask! 			Sebastian Czyzykowski and Team Research 
 IT 			 		 		 			 			14:45 			 			 			Tour of the Central Labs 			Get an in
 side look at the newest research infrastructure at our faculty 			 		 		 	
 		 			15:30 			 			 			Apéro 			 		 	 \\r\\n\\r\\nFoto: AdobeStock\, KI
X-ALT-DESC:<p>We woul like to invite you to the 1. Research Day: “<strong
 >Central Labs</strong>&nbsp\;Opening Event”.</p>\n<p>When: <strong>Wedne
 sday\, October 16\, 2024 at 14:00</strong></p>\n<p>Where:&nbsp\;<strong>Se
 minar Room 00.006\, Missionsstrasse 62a</strong></p>\n<p>Program</p>\n<tab
 le> 	<tbody> 		<tr> 			<td> 			<p><span><span><strong>14:00</strong></span
 ></span></p> 			</td> 			<td> 			<p><span><span><strong>Everything you eve
 r wanted to know about Research IT but were afraid to ask!</strong></span>
 </span></p> 			<p><span><span>Sebastian Czyzykowski and Team Research IT</
 span></span></p> 			</td> 		</tr> 		<tr> 			<td> 			<p><span><span><strong
 >14:45</strong></span></span></p> 			</td> 			<td> 			<p><span><span><stro
 ng>Tour of the Central Labs</strong></span></span></p> 			<p><span><span>G
 et an inside look at the newest research infrastructure at our faculty</sp
 an></span></p> 			</td> 		</tr> 		<tr> 			<td> 			<p><span><span><strong>1
 5:30</strong></span></span></p> 			</td> 			<td> 			<p><span><span><strong
 >Apéro</strong></span></span></p> 			</td> 		</tr> 	</tbody> </table>\n\n
 <p>Foto: AdobeStock\, KI</p>\n\n
DTEND;TZID=Europe/Zurich:20241016T160000
END:VEVENT
END:VCALENDAR
