BEGIN:VCALENDAR
VERSION:2.0
PRODID:-//Sabre//Sabre VObject 4.5.8//EN
CALSCALE:GREGORIAN
BEGIN:VTIMEZONE
TZID:Europe/Zurich
X-LIC-LOCATION:Europe/Zurich
TZURL:http://tzurl.org/zoneinfo/Europe/Zurich
BEGIN:DAYLIGHT
TZOFFSETFROM:+0100
TZOFFSETTO:+0200
TZNAME:CEST
DTSTART:19810329T020000
RRULE:FREQ=YEARLY;BYMONTH=3;BYDAY=-1SU
END:DAYLIGHT
BEGIN:STANDARD
TZOFFSETFROM:+0200
TZOFFSETTO:+0100
TZNAME:CET
DTSTART:19961027T030000
RRULE:FREQ=YEARLY;BYMONTH=10;BYDAY=-1SU
END:STANDARD
END:VTIMEZONE
BEGIN:VEVENT
UID:news657@psychologie.unibas.ch
DTSTAMP;TZID=Europe/Zurich:20241029T103505
DTSTART;TZID=Europe/Zurich:20241106T110000
SUMMARY:System interventions to reduce youth suicide in the Global south
DESCRIPTION:We would like to invite you to the talk offered by Dr. med. Ir
 ene Falgas Bague\, PhD\, Swiss Tropical and Public Health Institute.  Wh
 en:  Wednesday\, 6th of November\, 11:00 – 12:00 am\\r\\nWhere: Missio
 nstrasse 64a\, Seminarraum 00.001\\r\\nThis talk will be held in the coll
 oquium of the division for Youth Mental Health and is open to all students
  and staff of the faculty.   ©Adobe Stock
X-ALT-DESC:<p>We would like to invite you to the talk offered by&nbsp\;<str
 ong>Dr.</strong><strong> med. Irene </strong><strong>Falgas</strong>&nbsp\
 ;<strong>Bague</strong><strong>\, PhD\,&nbsp\;</strong>Swiss Tropical and 
 Public Health Institute.<br /> <br /> <strong>When:</strong>&nbsp\; Wednes
 day\, 6th of November\,&nbsp\;11:00 – 12:00 am</p>\n<p><strong>Where: </
 strong>Missionstrasse 64a\,&nbsp\;Seminarraum 00.001</p>\n<p>This talk wil
 l be held in the colloquium of the division for Youth Mental Health and is
  open to all students and staff of the faculty.<br /> <br /> <br /> ©<em>
 Adobe Stock</em></p>
DTEND;TZID=Europe/Zurich:20241106T120000
END:VEVENT
END:VCALENDAR
